BEGIN:VCALENDAR
VERSION:2.0
PRODID:-//hacksw/handcal//NONSGML v1.0//EN
BEGIN:VEVENT
DTSTART:20250603T173000
DTEND:20250603T203000
LOCATION:ENSGTI - Pau \nRue Jules Ferry, 64000 Pau
ORGANIZER;CN=FABIEN LASCARAY:MAILTO:fabien.lascaray@univ-pau.fr
SUMMARY:UPPA Alumni Afterwork: Entrepreneurship meetings (Les rencontres de l'entrepreneuriat)
DESCRIPTION:\nJoin the UPPA Alumni Afterwork:\nEntrepreneurship Encounters\nat ENSGTI on the Hélioparc Technopole in Pau\nThe alumni network of the University of Pau and the Adour Region and the Hélioparc...
URL:https://alumni.univ-pau.fr/en/event/uppa-alumni-afterwork-entrepreneurship-meetings-les-rencontres-de-l-entrepreneuriat/2025/06/03/127
BEGIN:VALARM
TRIGGER:-P0DT1H0M0S
ACTION:DISPLAY
END:VALARM
END:VEVENT
END:VCALENDAR