BEGIN:VCALENDAR
VERSION:2.0
PRODID:-//hacksw/handcal//NONSGML v1.0//EN
BEGIN:VEVENT
DTSTART:20260522T093000
DTEND:20260522T170000
LOCATION:Campus de Pau, IUT des Pays de l'Adour \nAvenue de l'Université \n64000 PAU
ORGANIZER;CN=AURORE WELLHOFF:MAILTO:aurore.wellhoff@univ-pau.fr
SUMMARY:Job dating alternance MTEE : 6e édition
DESCRIPTION:Venez à la rencontre de nos étudiants et recrutez vos futurs alternants de nos formations en énergie :• BUT Métiers de la Transition et de l'Efficacité Énergétiques\n• Licence professionnelle Métiers ...
URL:https://alumni.univ-pau.fr/en/event/job-dating-alternance-mtee-6e-edition/2026/05/22/155
BEGIN:VALARM
TRIGGER:-P0DT1H0M0S
ACTION:DISPLAY
END:VALARM
END:VEVENT
END:VCALENDAR