BEGIN:VCALENDAR
VERSION:2.0
PRODID:-//hacksw/handcal//NONSGML v1.0//EN
BEGIN:VEVENT
DTSTART:20221203T200000
DTEND:20221203T230000
LOCATION:Cinéma Saintt-Michel \n11 rue Saint-Michel \n64260 Arudy
ORGANIZER;CN=BENEDICTE LAMOTHE:MAILTO:benedicte.lamothe@univ-pau.fr
SUMMARY:Nuit européenne des chercheur·e·s - ARUDY
DESCRIPTION:Tout public, gratuit. Conférence "Explorer notre futur climatique à travers la science-fiction" \nFace aux changements climatiques, notre capacité à envisager des futurs possibles reste limitée,...
URL:https://alumni.univ-pau.fr/en/event/nuit-europeenne-des-chercheur-e-s-arudy/2022/12/03/45
BEGIN:VALARM
TRIGGER:-P0DT1H0M0S
ACTION:DISPLAY
END:VALARM
END:VEVENT
END:VCALENDAR