BEGIN:VCALENDAR
VERSION:2.0
PRODID:-//hacksw/handcal//NONSGML v1.0//EN
BEGIN:VEVENT
DTSTART:20250603T173000
DTEND:20250603T203000
LOCATION:ENSGTI - Pau \nRue Jules Ferry, 64000 Pau
ORGANIZER;CN=FABIEN LASCARAY:MAILTO:fabien.lascaray@univ-pau.fr
SUMMARY:Afterwork UPPA Alumni : Les rencontres de l'entrepreneuriat
DESCRIPTION:Participez à l'afterwork UPPA Alumni : Les rencontres de l'entrepreneuriat à PauDans le cadre du Pôle Universitaire d'Innovation Sud Aquitaine Innovation, le réseau alumni de l'Université de Pau et...
URL:https://alumni.univ-pau.fr/fr/event/afterwork-uppa-alumni-les-rencontres-de-l-entrepreneuriat/2025/06/03/127
BEGIN:VALARM
TRIGGER:-P0DT1H0M0S
ACTION:DISPLAY
END:VALARM
END:VEVENT
END:VCALENDAR